Workbook

Sheet 【本シートに入力してください】入力用シート
C2: 提出判定→ | D2: =IF(COUNTIFS(C:C,"エラーあり→")=0,"提出可","提出不可（「エラーあり」の項目があります）") -> 提出不可（「エラーあり」の項目があります）
B4: 項目名（大分類） | C4: 項目名（小分類） | D4: 回答欄【本列に回答を入力してください】 | E4: 備考
B5: 届出者情報
B6: 設置許可申請者等の 氏 名 及 び 住 所 | E6: （法人にあってはその名称、代表者 の氏名及び主たる事務所の所在地）
B7: 事業名称
B8: 事 業 区 域 予 定 地 | E8: （土地の地番は全筆記入すること。）
B9: （エラー判定） | C9: =IF(D9="","エラーなし","エラーあり→") -> エラーあり→ | D9: =IF(OR(D6="",D7="",D8=""),"「届出者情報」に未入力の必須項目があります","") -> 「届出者情報」に未入力の必須項目があります
B10: 関係法令に係る手続状況
B11: 項目番号１： 国土利用計画法に基づく土地売買等届出 | C11: 該当の有無
C12: 手続状況 | E12: =IF(D11="無","「手続状況」の入力は不要です","")
C13: 手続状況（年） | E13: =IF(D12="手続中","「手続状況」が「手続中」の場合のみ、「直近の手続実施日」又は「手続完了予定日」を御記入ください。","")
C14: 手続状況（月）
C15: 確認日 | E15: =IF(D11="無","確認方法等の欄に記載の方法により、該当が無いことを確認した日を御記入ください。（入力方法：yyyy/mm/dd）",IF(D12="手続中","確認方法等の欄に記載の方法により、該当が有ることを確認した日を御記入ください。（入力方法：yyyy/mm/dd）",IF(D12="手続済","手続完了日（許可年月日等）を記載してください（入力方法：yyyy/mm/dd）","")))
C16: 確認方法等
C17: =IF(D16="","",IF(D16="法令担当部署への確認","確認先の法令担当部署","手続の要件に該当しない理由")) | E17: =IF(C17="","",IF(D16="法令担当部署への確認","例 ○○市○○課","例 手続要件は○○とされているところ、本件は○○であり、要件を充足しないため"))
B18: （項目エラー判定） | C18: =IF(D18="","エラーなし","エラーあり→") -> エラーあり→ | D18: =IF(D11="","・「該当の有無」が未入力です"&CHAR(10),"")&IF(AND(D11="無",OR(D12="手続済",D12="手続中")),"・「該当の有無」が「無」の場合は、「手続状況」の記載は不要です"&CHAR(10),"")&IF(D11="有",IF(D12="","・「手続状況」が未入力です"&CHAR(10),""),"")&IF(D12="手続中",IF(OR(D13="",D14=""),"・「手続状況（年）」又は「手続状況（月）」が未入力です"&CHAR(10),""),"")&IF(D12="手続済",IF(AND(D13="",D14=""),"","・「手続状況」が「手続済」の場合、「手続状況（年）」及び「手続状況（月）」の記載は不要です"&CHAR(10)),"")&IF(D15="","・「確認日」が未入力です"&CHAR(10),"")&IF(D16="","・「確認方法等」が未入力です"&CHAR(10),"")&IF(AND(D16="法令担当部署への確認",D17=""),"・「確認先の法令担当部署」が未入力です"&CHAR(10),"")&IF(AND(D11="有",D16="HP等での基準の確認（該当無の場合のみ）"),"・「HP等での基準の確認（該当無の場合のみ）」は、「該当の有無」が「無」の場合のみ選択可能です"&CHAR(10),"")&IF(AND(D16="HP等での基準の確認（該当無の場合のみ）",D17=""),"・「手続の要件に該当しない理由」が未入力です","") -> ・「該当の有無」が未入力です ・「確認日」が未入力です ・「確認方法等」が未入力です
B19: 項目番号2： 都市計画法に基づく開発許可 | C19: 該当の有無
C20: 手続状況 | E20: =IF(D19="無","「手続状況」の入力は不要です","")
C21: 手続状況（年） | E21: =IF(D20="手続中","「手続状況」が「手続中」の場合のみ、「直近の手続実施日」又は「手続完了予定日」を御記入ください。","")
C22: 手続状況（月）
C23: 確認日 | E23: =IF(D19="無","確認方法等の欄に記載の方法により、該当が無いことを確認した日を御記入ください。（入力方法：yyyy/mm/dd）",IF(D20="手続中","確認方法等の欄に記載の方法により、該当が有ることを確認した日を御記入ください。（入力方法：yyyy/mm/dd）",IF(D20="手続済","手続完了日（許可年月日等）を記載してください（入力方法：yyyy/mm/dd）","")))
C24: 確認方法等
C25: =IF(D24="","",IF(D24="法令担当部署への確認","確認先の法令担当部署","手続の要件に該当しない理由")) | E25: =IF(C25="","",IF(D24="法令担当部署への確認","例 ○○市○○課","例 手続要件は○○とされているところ、本件は○○であり、要件を充足しないため"))
B26: （項目エラー判定） | C26: =IF(D26="","エラーなし","エラーあり→") -> エラーあり→ | D26: =IF(D19="","・「該当の有無」が未入力です"&CHAR(10),"")&IF(AND(D19="無",OR(D20="手続済",D20="手続中")),"・「該当の有無」が「無」の場合は、「手続状況」の記載は不要です"&CHAR(10),"")&IF(D19="有",IF(D20="","・「手続状況」が未入力です"&CHAR(10),""),"")&IF(D20="手続中",IF(OR(D21="",D22=""),"・「手続状況（年）」又は「手続状況（月）」が未入力です"&CHAR(10),""),"")&IF(D20="手続済",IF(AND(D21="",D22=""),"","・「手続状況」が「手続済」の場合、「手続状況（年）」及び「手続状況（月）」の記載は不要です"&CHAR(10)),"")&IF(D23="","・「確認日」が未入力です"&CHAR(10),"")&IF(D24="","・「確認方法等」が未入力です"&CHAR(10),"")&IF(AND(D24="法令担当部署への確認",D25=""),"・「確認先の法令担当部署」が未入力です"&CHAR(10),"")&IF(AND(D19="有",D24="HP等での基準の確認（該当無の場合のみ）"),"・「HP等での基準の確認（該当無の場合のみ）」は、「該当の有無」が「無」の場合のみ選択可能です"&CHAR(10),"")&IF(AND(D24="HP等での基準の確認（該当無の場合のみ）",D25=""),"・「手続の要件に該当しない理由」が未入力です","") -> ・「該当の有無」が未入力です ・「確認日」が未入力です ・「確認方法等」が未入力です
B27: 項目番号3： 河川法に基づく工作物の新築等の許可、河川区域内の土地占用・掘削許可 | C27: 該当の有無
C28: 手続状況 | E28: =IF(D27="無","「手続状況」の入力は不要です","")
C29: 手続状況（年） | E29: =IF(D28="手続中","「手続状況」が「手続中」の場合のみ、「直近の手続実施日」又は「手続完了予定日」を御記入ください。","")
C30: 手続状況（月）
C31: 確認日 | E31: =IF(D27="無","確認方法等の欄に記載の方法により、該当が無いことを確認した日を御記入ください。（入力方法：yyyy/mm/dd）",IF(D28="手続中","確認方法等の欄に記載の方法により、該当が有ることを確認した日を御記入ください。（入力方法：yyyy/mm/dd）",IF(D28="手続済","手続完了日（許可年月日等）を記載してください（入力方法：yyyy/mm/dd）","")))
C32: 確認方法等
C33: =IF(D32="","",IF(D32="法令担当部署への確認","確認先の法令担当部署","手続の要件に該当しない理由")) | E33: =IF(C33="","",IF(D32="法令担当部署への確認","例 ○○市○○課","例 手続要件は○○とされているところ、本件は○○であり、要件を充足しないため"))
B34: （項目エラー判定） | C34: =IF(D34="","エラーなし","エラーあり→") -> エラーあり→ | D34: =IF(D27="","・「該当の有無」が未入力です"&CHAR(10),"")&IF(AND(D27="無",OR(D28="手続済",D28="手続中")),"・「該当の有無」が「無」の場合は、「手続状況」の記載は不要です"&CHAR(10),"")&IF(D27="有",IF(D28="","・「手続状況」が未入力です"&CHAR(10),""),"")&IF(D28="手続中",IF(OR(D29="",D30=""),"・「手続状況（年）」又は「手続状況（月）」が未入力です"&CHAR(10),""),"")&IF(D28="手続済",IF(AND(D29="",D30=""),"","・「手続状況」が「手続済」の場合、「手続状況（年）」及び「手続状況（月）」の記載は不要です"&CHAR(10)),"")&IF(D31="","・「確認日」が未入力です"&CHAR(10),"")&IF(D32="","・「確認方法等」が未入力です"&CHAR(10),"")&IF(AND(D32="法令担当部署への確認",D33=""),"・「確認先の法令担当部署」が未入力です"&CHAR(10),"")&IF(AND(D27="有",D32="HP等での基準の確認（該当無の場合のみ）"),"・「HP等での基準の確認（該当無の場合のみ）」は、「該当の有無」が「無」の場合のみ選択可能です"&CHAR(10),"")&IF(AND(D32="HP等での基準の確認（該当無の場合のみ）",D33=""),"・「手続の要件に該当しない理由」が未入力です","") -> ・「該当の有無」が未入力です ・「確認日」が未入力です ・「確認方法等」が未入力です
B35: 項目番号4： 港湾法に基づく港湾区域内の水域又は港湾隣接地域における占用の許可、臨港地区内における行為の届出 | C35: 該当の有無
C36: 手続状況 | E36: =IF(D35="無","「手続状況」の入力は不要です","")
C37: 手続状況（年） | E37: =IF(D36="手続中","「手続状況」が「手続中」の場合のみ、「直近の手続実施日」又は「手続完了予定日」を御記入ください。","")
C38: 手続状況（月）
C39: 確認日 | E39: =IF(D35="無","確認方法等の欄に記載の方法により、該当が無いことを確認した日を御記入ください。（入力方法：yyyy/mm/dd）",IF(D36="手続中","確認方法等の欄に記載の方法により、該当が有ることを確認した日を御記入ください。（入力方法：yyyy/mm/dd）",IF(D36="手続済","手続完了日（許可年月日等）を記載してください（入力方法：yyyy/mm/dd）","")))
C40: 確認方法等
C41: =IF(D40="","",IF(D40="法令担当部署への確認","確認先の法令担当部署","手続の要件に該当しない理由")) | E41: =IF(C41="","",IF(D40="法令担当部署への確認","例 ○○市○○課","例 手続要件は○○とされているところ、本件は○○であり、要件を充足しないため"))
B42: （項目エラー判定） | C42: =IF(D42="","エラーなし","エラーあり→") -> エラーあり→ | D42: =IF(D35="","・「該当の有無」が未入力です"&CHAR(10),"")&IF(AND(D35="無",OR(D36="手続済",D36="手続中")),"・「該当の有無」が「無」の場合は、「手続状況」の記載は不要です"&CHAR(10),"")&IF(D35="有",IF(D36="","・「手続状況」が未入力です"&CHAR(10),""),"")&IF(D36="手続中",IF(OR(D37="",D38=""),"・「手続状況（年）」又は「手続状況（月）」が未入力です"&CHAR(10),""),"")&IF(D36="手続済",IF(AND(D37="",D38=""),"","・「手続状況」が「手続済」の場合、「手続状況（年）」及び「手続状況（月）」の記載は不要です"&CHAR(10)),"")&IF(D39="","・「確認日」が未入力です"&CHAR(10),"")&IF(D40="","・「確認方法等」が未入力です"&CHAR(10),"")&IF(AND(D40="法令担当部署への確認",D41=""),"・「確認先の法令担当部署」が未入力です"&CHAR(10),"")&IF(AND(D35="有",D40="HP等での基準の確認（該当無の場合のみ）"),"・「HP等での基準の確認（該当無の場合のみ）」は、「該当の有無」が「無」の場合のみ選択可能です"&CHAR(10),"")&IF(AND(D40="HP等での基準の確認（該当無の場合のみ）",D41=""),"・「手続の要件に該当しない理由」が未入力です","") -> ・「該当の有無」が未入力です ・「確認日」が未入力です ・「確認方法等」が未入力です
...

Sheet 【提出】別紙1-関係法令手続状況
A2: 太陽光発電施設の設置等に関する条例
B3: 関係法令手続状況
B5: 設置許可申請者等の 氏 名 及 び 住 所 （法人にあってはその名称、代表者 の氏名及び主たる事務所の所在地） | D5: =IF(【本シートに入力してください】入力用シート!D6="","",【本シートに入力してください】入力用シート!D6)
B6: 事 業 名 称 | D6: =IF(【本シートに入力してください】入力用シート!D7="","",【本シートに入力してください】入力用シート!D7)
B7: 事 業 区 域 予 定 地 （土地の地番は全筆記入すること。） | D7: =IF(【本シートに入力してください】入力用シート!D8="","",【本シートに入力してください】入力用シート!D8)
C9: 項目 | D9: 該当の有無 | E9: 手続状況 （有の場合のみ） | F9: 確認日 | G9: 確認方法等 | I9: '入力シートからの転記
B10: 1 | C10: =RIGHT(INDEX(【本シートに入力してください】入力用シート!B:B,Q10),LEN(INDEX(【本シートに入力してください】入力用シート!B:B,Q10))-FIND("：",INDEX(【本シートに入力してください】入力用シート!B:B,Q10))) -> 国土利用計画法に基づく土地売買等届出 | D10: =IF(I10="","☐有"&CHAR(10)&"☐無",IF(I10="有","✓有"&CHAR(10)&"☐無","☐有"&CHAR(10)&"✓無")) -> ☐有 ☐無 | E10: =IF(J10="","☐手続済"&CHAR(10)&"☐手続中"&CHAR(10)&"（ 年 月）",IF(J10="手続済","✓手続済"&CHAR(10)&"☐手続中"&CHAR(10)&"（ 年 月）","☐手続済"&CHAR(10)&"✓手続中"&CHAR(10)&"（"&K10&"年"&L10&"月）")) -> ☐手続済 ☐手続中 （ 年 月） | F10: =IF(M10="","年 月 日",M10) -> 年 月 日 | G10: =IF(N10="","☐法令担当部署への確認"&CHAR(10)&"確認先："&CHAR(10)&"☐HP等での基準の確認（該当無の場合のみ）"&CHAR(10)&"該当無の理由：",IF(N10="法令担当部署への確認","✓法令担当部署への確認"&CHAR(10)&"確認先："&O10&CHAR(10)&"☐HP等での基準の確認（該当無の場合のみ）"&CHAR(10)&"該当無の理由：","☐法令担当部署への確認"&CHAR(10)&"確認先："&CHAR(10)&"✓HP等での基準の確認（該当無の場合のみ）"&CHAR(10)&"該当無の理由："&O10)) -> ☐法令担当部署への確認 確認先： ☐HP等での基準の確認（該当無の場合のみ） 該当無の理由： | I10: =IF(INDEX(【本シートに入力してください】入力用シート!D:D,Q10)=0,"",INDEX(【本シートに入力してください】入力用シート!D:D,Q10)) | J10: =IF(INDEX(【本シートに入力してください】入力用シート!D:D,Q10+1)=0,"",INDEX(【本シートに入力してください】入力用シート!D:D,Q10+1)) | K10: =IF(INDEX(【本シートに入力してください】入力用シート!D:D,Q10+2)=0,"",INDEX(【本シートに入力してください】入力用シート!D:D,Q10+2)) | L10: =IF(INDEX(【本シートに入力してください】入力用シート!D:D,Q10+3)=0,"",INDEX(【本シートに入力してください】入力用シート!D:D,Q10+3)) | M10: =IF(INDEX(【本シートに入力してください】入力用シート!D:D,Q10+4)=0,"",INDEX(【本シートに入力してください】入力用シート!D:D,Q10+4)) | N10: =IF(INDEX(【本シートに入力してください】入力用シート!D:D,Q10+5)=0,"",INDEX(【本シートに入力してください】入力用シート!D:D,Q10+5)) | O10: =IF(INDEX(【本シートに入力してください】入力用シート!D:D,Q10+6)=0,"",INDEX(【本シートに入力してください】入力用シート!D:D,Q10+6)) | Q10: 11
B11: =B10+1 -> 2 | C11: =RIGHT(INDEX(【本シートに入力してください】入力用シート!B:B,Q11),LEN(INDEX(【本シートに入力してください】入力用シート!B:B,Q11))-FIND("：",INDEX(【本シートに入力してください】入力用シート!B:B,Q11))) -> 都市計画法に基づく開発許可 | D11: =IF(I11="","☐有"&CHAR(10)&"☐無",IF(I11="有","✓有"&CHAR(10)&"☐無","☐有"&CHAR(10)&"✓無")) -> ☐有 ☐無 | E11: =IF(J11="","☐手続済"&CHAR(10)&"☐手続中"&CHAR(10)&"（ 年 月）",IF(J11="手続済","✓手続済"&CHAR(10)&"☐手続中"&CHAR(10)&"（ 年 月）","☐手続済"&CHAR(10)&"✓手続中"&CHAR(10)&"（"&K11&"年"&L11&"月）")) -> ☐手続済 ☐手続中 （ 年 月） | F11: =IF(M11="","年 月 日",M11) -> 年 月 日 | G11: =IF(N11="","☐法令担当部署への確認"&CHAR(10)&"確認先："&CHAR(10)&"☐HP等での基準の確認（該当無の場合のみ）"&CHAR(10)&"該当無の理由：",IF(N11="法令担当部署への確認","✓法令担当部署への確認"&CHAR(10)&"確認先："&O11&CHAR(10)&"☐HP等での基準の確認（該当無の場合のみ）"&CHAR(10)&"該当無の理由：","☐法令担当部署への確認"&CHAR(10)&"確認先："&CHAR(10)&"✓HP等での基準の確認（該当無の場合のみ）"&CHAR(10)&"該当無の理由："&O11)) -> ☐法令担当部署への確認 確認先： ☐HP等での基準の確認（該当無の場合のみ） 該当無の理由： | I11: =IF(INDEX(【本シートに入力してください】入力用シート!D:D,Q11)=0,"",INDEX(【本シートに入力してください】入力用シート!D:D,Q11)) | J11: =IF(INDEX(【本シートに入力してください】入力用シート!D:D,Q11+1)=0,"",INDEX(【本シートに入力してください】入力用シート!D:D,Q11+1)) | K11: =IF(INDEX(【本シートに入力してください】入力用シート!D:D,Q11+2)=0,"",INDEX(【本シートに入力してください】入力用シート!D:D,Q11+2)) | L11: =IF(INDEX(【本シートに入力してください】入力用シート!D:D,Q11+3)=0,"",INDEX(【本シートに入力してください】入力用シート!D:D,Q11+3)) | M11: =IF(INDEX(【本シートに入力してください】入力用シート!D:D,Q11+4)=0,"",INDEX(【本シートに入力してください】入力用シート!D:D,Q11+4)) | N11: =IF(INDEX(【本シートに入力してください】入力用シート!D:D,Q11+5)=0,"",INDEX(【本シートに入力してください】入力用シート!D:D,Q11+5)) | O11: =IF(INDEX(【本シートに入力してください】入力用シート!D:D,Q11+6)=0,"",INDEX(【本シートに入力してください】入力用シート!D:D,Q11+6)) | Q11: =Q10+COUNTA(I10:P10)+1 -> 19
B12: =B11+1 -> 3 | C12: =RIGHT(INDEX(【本シートに入力してください】入力用シート!B:B,Q12),LEN(INDEX(【本シートに入力してください】入力用シート!B:B,Q12))-FIND("：",INDEX(【本シートに入力してください】入力用シート!B:B,Q12))) -> 河川法に基づく工作物の新築等の許可、河川区域内の土地占用・掘削許可 | D12: =IF(I12="","☐有"&CHAR(10)&"☐無",IF(I12="有","✓有"&CHAR(10)&"☐無","☐有"&CHAR(10)&"✓無")) -> ☐有 ☐無 | E12: =IF(J12="","☐手続済"&CHAR(10)&"☐手続中"&CHAR(10)&"（ 年 月）",IF(J12="手続済","✓手続済"&CHAR(10)&"☐手続中"&CHAR(10)&"（ 年 月）","☐手続済"&CHAR(10)&"✓手続中"&CHAR(10)&"（"&K12&"年"&L12&"月）")) -> ☐手続済 ☐手続中 （ 年 月） | F12: =IF(M12="","年 月 日",M12) -> 年 月 日 | G12: =IF(N12="","☐法令担当部署への確認"&CHAR(10)&"確認先："&CHAR(10)&"☐HP等での基準の確認（該当無の場合のみ）"&CHAR(10)&"該当無の理由：",IF(N12="法令担当部署への確認","✓法令担当部署への確認"&CHAR(10)&"確認先："&O12&CHAR(10)&"☐HP等での基準の確認（該当無の場合のみ）"&CHAR(10)&"該当無の理由：","☐法令担当部署への確認"&CHAR(10)&"確認先："&CHAR(10)&"✓HP等での基準の確認（該当無の場合のみ）"&CHAR(10)&"該当無の理由："&O12)) -> ☐法令担当部署への確認 確認先： ☐HP等での基準の確認（該当無の場合のみ） 該当無の理由： | I12: =IF(INDEX(【本シートに入力してください】入力用シート!D:D,Q12)=0,"",INDEX(【本シートに入力してください】入力用シート!D:D,Q12)) | J12: =IF(INDEX(【本シートに入力してください】入力用シート!D:D,Q12+1)=0,"",INDEX(【本シートに入力してください】入力用シート!D:D,Q12+1)) | K12: =IF(INDEX(【本シートに入力してください】入力用シート!D:D,Q12+2)=0,"",INDEX(【本シートに入力してください】入力用シート!D:D,Q12+2)) | L12: =IF(INDEX(【本シートに入力してください】入力用シート!D:D,Q12+3)=0,"",INDEX(【本シートに入力してください】入力用シート!D:D,Q12+3)) | M12: =IF(INDEX(【本シートに入力してください】入力用シート!D:D,Q12+4)=0,"",INDEX(【本シートに入力してください】入力用シート!D:D,Q12+4)) | N12: =IF(INDEX(【本シートに入力してください】入力用シート!D:D,Q12+5)=0,"",INDEX(【本シートに入力してください】入力用シート!D:D,Q12+5)) | O12: =IF(INDEX(【本シートに入力してください】入力用シート!D:D,Q12+6)=0,"",INDEX(【本シートに入力してください】入力用シート!D:D,Q12+6)) | Q12: =Q11+COUNTA(I11:P11)+1 -> 27
B13: =B12+1 -> 4 | C13: =RIGHT(INDEX(【本シートに入力してください】入力用シート!B:B,Q13),LEN(INDEX(【本シートに入力してください】入力用シート!B:B,Q13))-FIND("：",INDEX(【本シートに入力してください】入力用シート!B:B,Q13))) -> 港湾法に基づく港湾区域内の水域又は港湾隣接地域における占用の許可、臨港地区内における行為の届出 | D13: =IF(I13="","☐有"&CHAR(10)&"☐無",IF(I13="有","✓有"&CHAR(10)&"☐無","☐有"&CHAR(10)&"✓無")) -> ☐有 ☐無 | E13: =IF(J13="","☐手続済"&CHAR(10)&"☐手続中"&CHAR(10)&"（ 年 月）",IF(J13="手続済","✓手続済"&CHAR(10)&"☐手続中"&CHAR(10)&"（ 年 月）","☐手続済"&CHAR(10)&"✓手続中"&CHAR(10)&"（"&K13&"年"&L13&"月）")) -> ☐手続済 ☐手続中 （ 年 月） | F13: =IF(M13="","年 月 日",M13) -> 年 月 日 | G13: =IF(N13="","☐法令担当部署への確認"&CHAR(10)&"確認先："&CHAR(10)&"☐HP等での基準の確認（該当無の場合のみ）"&CHAR(10)&"該当無の理由：",IF(N13="法令担当部署への確認","✓法令担当部署への確認"&CHAR(10)&"確認先："&O13&CHAR(10)&"☐HP等での基準の確認（該当無の場合のみ）"&CHAR(10)&"該当無の理由：","☐法令担当部署への確認"&CHAR(10)&"確認先："&CHAR(10)&"✓HP等での基準の確認（該当無の場合のみ）"&CHAR(10)&"該当無の理由："&O13)) -> ☐法令担当部署への確認 確認先： ☐HP等での基準の確認（該当無の場合のみ） 該当無の理由： | I13: =IF(INDEX(【本シートに入力してください】入力用シート!D:D,Q13)=0,"",INDEX(【本シートに入力してください】入力用シート!D:D,Q13)) | J13: =IF(INDEX(【本シートに入力してください】入力用シート!D:D,Q13+1)=0,"",INDEX(【本シートに入力してください】入力用シート!D:D,Q13+1)) | K13: =IF(INDEX(【本シートに入力してください】入力用シート!D:D,Q13+2)=0,"",INDEX(【本シートに入力してください】入力用シート!D:D,Q13+2)) | L13: =IF(INDEX(【本シートに入力してください】入力用シート!D:D,Q13+3)=0,"",INDEX(【本シートに入力してください】入力用シート!D:D,Q13+3)) | M13: =IF(INDEX(【本シートに入力してください】入力用シート!D:D,Q13+4)=0,"",INDEX(【本シートに入力してください】入力用シート!D:D,Q13+4)) | N13: =IF(INDEX(【本シートに入力してください】入力用シート!D:D,Q13+5)=0,"",INDEX(【本シートに入力してください】入力用シート!D:D,Q13+5)) | O13: =IF(INDEX(【本シートに入力してください】入力用シート!D:D,Q13+6)=0,"",INDEX(【本シートに入力してください】入力用シート!D:D,Q13+6)) | Q13: =Q12+COUNTA(I12:P12)+1 -> 35
B14: =B13+1 -> 5 | C14: =RIGHT(INDEX(【本シートに入力してください】入力用シート!B:B,Q14),LEN(INDEX(【本シートに入力してください】入力用シート!B:B,Q14))-FIND("：",INDEX(【本シートに入力してください】入力用シート!B:B,Q14))) -> 海岸法に基づく海岸保全区域等の占用許可 | D14: =IF(I14="","☐有"&CHAR(10)&"☐無",IF(I14="有","✓有"&CHAR(10)&"☐無","☐有"&CHAR(10)&"✓無")) -> ☐有 ☐無 | E14: =IF(J14="","☐手続済"&CHAR(10)&"☐手続中"&CHAR(10)&"（ 年 月）",IF(J14="手続済","✓手続済"&CHAR(10)&"☐手続中"&CHAR(10)&"（ 年 月）","☐手続済"&CHAR(10)&"✓手続中"&CHAR(10)&"（"&K14&"年"&L14&"月）")) -> ☐手続済 ☐手続中 （ 年 月） | F14: =IF(M14="","年 月 日",M14) -> 年 月 日 | G14: =IF(N14="","☐法令担当部署への確認"&CHAR(10)&"確認先："&CHAR(10)&"☐HP等での基準の確認（該当無の場合のみ）"&CHAR(10)&"該当無の理由：",IF(N14="法令担当部署への確認","✓法令担当部署への確認"&CHAR(10)&"確認先："&O14&CHAR(10)&"☐HP等での基準の確認（該当無の場合のみ）"&CHAR(10)&"該当無の理由：","☐法令担当部署への確認"&CHAR(10)&"確認先："&CHAR(10)&"✓HP等での基準の確認（該当無の場合のみ）"&CHAR(10)&"該当無の理由："&O14)) -> ☐法令担当部署への確認 確認先： ☐HP等での基準の確認（該当無の場合のみ） 該当無の理由： | I14: =IF(INDEX(【本シートに入力してください】入力用シート!D:D,Q14)=0,"",INDEX(【本シートに入力してください】入力用シート!D:D,Q14)) | J14: =IF(INDEX(【本シートに入力してください】入力用シート!D:D,Q14+1)=0,"",INDEX(【本シートに入力してください】入力用シート!D:D,Q14+1)) | K14: =IF(INDEX(【本シートに入力してください】入力用シート!D:D,Q14+2)=0,"",INDEX(【本シートに入力してください】入力用シート!D:D,Q14+2)) | L14: =IF(INDEX(【本シートに入力してください】入力用シート!D:D,Q14+3)=0,"",INDEX(【本シートに入力してください】入力用シート!D:D,Q14+3)) | M14: =IF(INDEX(【本シートに入力してください】入力用シート!D:D,Q14+4)=0,"",INDEX(【本シートに入力してください】入力用シート!D:D,Q14+4)) | N14: =IF(INDEX(【本シートに入力してください】入力用シート!D:D,Q14+5)=0,"",INDEX(【本シートに入力してください】入力用シート!D:D,Q14+5)) | O14: =IF(INDEX(【本シートに入力してください】入力用シート!D:D,Q14+6)=0,"",INDEX(【本シートに入力してください】入力用シート!D:D,Q14+6)) | Q14: =Q13+COUNTA(I13:P13)+1 -> 43
B15: =B14+1 -> 6 | C15: =RIGHT(INDEX(【本シートに入力してください】入力用シート!B:B,Q15),LEN(INDEX(【本シートに入力してください】入力用シート!B:B,Q15))-FIND("：",INDEX(【本シートに入力してください】入力用シート!B:B,Q15))) -> 急傾斜地の崩壊による災害の防止に関する法律に基づく急傾斜地崩壊危険区域内の行為許可 | D15: =IF(I15="","☐有"&CHAR(10)&"☐無",IF(I15="有","✓有"&CHAR(10)&"☐無","☐有"&CHAR(10)&"✓無")) -> ☐有 ☐無 | E15: =IF(J15="","☐手続済"&CHAR(10)&"☐手続中"&CHAR(10)&"（ 年 月）",IF(J15="手続済","✓手続済"&CHAR(10)&"☐手続中"&CHAR(10)&"（ 年 月）","☐手続済"&CHAR(10)&"✓手続中"&CHAR(10)&"（"&K15&"年"&L15&"月）")) -> ☐手続済 ☐手続中 （ 年 月） | F15: =IF(M15="","年 月 日",M15) -> 年 月 日 | G15: =IF(N15="","☐法令担当部署への確認"&CHAR(10)&"確認先："&CHAR(10)&"☐HP等での基準の確認（該当無の場合のみ）"&CHAR(10)&"該当無の理由：",IF(N15="法令担当部署への確認","✓法令担当部署への確認"&CHAR(10)&"確認先："&O15&CHAR(10)&"☐HP等での基準の確認（該当無の場合のみ）"&CHAR(10)&"該当無の理由：","☐法令担当部署への確認"&CHAR(10)&"確認先："&CHAR(10)&"✓HP等での基準の確認（該当無の場合のみ）"&CHAR(10)&"該当無の理由："&O15)) -> ☐法令担当部署への確認 確認先： ☐HP等での基準の確認（該当無の場合のみ） 該当無の理由： | I15: =IF(INDEX(【本シートに入力してください】入力用シート!D:D,Q15)=0,"",INDEX(【本シートに入力してください】入力用シート!D:D,Q15)) | J15: =IF(INDEX(【本シートに入力してください】入力用シート!D:D,Q15+1)=0,"",INDEX(【本シートに入力してください】入力用シート!D:D,Q15+1)) | K15: =IF(INDEX(【本シートに入力してください】入力用シート!D:D,Q15+2)=0,"",INDEX(【本シートに入力してください】入力用シート!D:D,Q15+2)) | L15: =IF(INDEX(【本シートに入力してください】入力用シート!D:D,Q15+3)=0,"",INDEX(【本シートに入力してください】入力用シート!D:D,Q15+3)) | M15: =IF(INDEX(【本シートに入力してください】入力用シート!D:D,Q15+4)=0,"",INDEX(【本シートに入力してください】入力用シート!D:D,Q15+4)) | N15: =IF(INDEX(【本シートに入力してください】入力用シート!D:D,Q15+5)=0,"",INDEX(【本シートに入力してください】入力用シート!D:D,Q15+5)) | O15: =IF(INDEX(【本シートに入力してください】入力用シート!D:D,Q15+6)=0,"",INDEX(【本シートに入力してください】入力用シート!D:D,Q15+6)) | Q15: =Q14+COUNTA(I14:P14)+1 -> 51
B16: =B15+1 -> 7 | C16: =RIGHT(INDEX(【本シートに入力してください】入力用シート!B:B,Q16),LEN(INDEX(【本シートに入力してください】入力用シート!B:B,Q16))-FIND("：",INDEX(【本シートに入力してください】入力用シート!B:B,Q16))) -> 砂防法に基づく砂防指定地における行為許可、砂防設備の占用許可 | D16: =IF(I16="","☐有"&CHAR(10)&"☐無",IF(I16="有","✓有"&CHAR(10)&"☐無","☐有"&CHAR(10)&"✓無")) -> ☐有 ☐無 | E16: =IF(J16="","☐手続済"&CHAR(10)&"☐手続中"&CHAR(10)&"（ 年 月）",IF(J16="手続済","✓手続済"&CHAR(10)&"☐手続中"&CHAR(10)&"（ 年 月）","☐手続済"&CHAR(10)&"✓手続中"&CHAR(10)&"（"&K16&"年"&L16&"月）")) -> ☐手続済 ☐手続中 （ 年 月） | F16: =IF(M16="","年 月 日",M16) -> 年 月 日 | G16: =IF(N16="","☐法令担当部署への確認"&CHAR(10)&"確認先："&CHAR(10)&"☐HP等での基準の確認（該当無の場合のみ）"&CHAR(10)&"該当無の理由：",IF(N16="法令担当部署への確認","✓法令担当部署への確認"&CHAR(10)&"確認先："&O16&CHAR(10)&"☐HP等での基準の確認（該当無の場合のみ）"&CHAR(10)&"該当無の理由：","☐法令担当部署への確認"&CHAR(10)&"確認先："&CHAR(10)&"✓HP等での基準の確認（該当無の場合のみ）"&CHAR(10)&"該当無の理由："&O16)) -> ☐法令担当部署への確認 確認先： ☐HP等での基準の確認（該当無の場合のみ） 該当無の理由： | I16: =IF(INDEX(【本シートに入力してください】入力用シート!D:D,Q16)=0,"",INDEX(【本シートに入力してください】入力用シート!D:D,Q16)) | J16: =IF(INDEX(【本シートに入力してください】入力用シート!D:D,Q16+1)=0,"",INDEX(【本シートに入力してください】入力用シート!D:D,Q16+1)) | K16: =IF(INDEX(【本シートに入力してください】入力用シート!D:D,Q16+2)=0,"",INDEX(【本シートに入力してください】入力用シート!D:D,Q16+2)) | L16: =IF(INDEX(【本シートに入力してください】入力用シート!D:D,Q16+3)=0,"",INDEX(【本シートに入力してください】入力用シート!D:D,Q16+3)) | M16: =IF(INDEX(【本シートに入力してください】入力用シート!D:D,Q16+4)=0,"",INDEX(【本シートに入力してください】入力用シート!D:D,Q16+4)) | N16: =IF(INDEX(【本シートに入力してください】入力用シート!D:D,Q16+5)=0,"",INDEX(【本シートに入力してください】入力用シート!D:D,Q16+5)) | O16: =IF(INDEX(【本シートに入力してください】入力用シート!D:D,Q16+6)=0,"",INDEX(【本シートに入力してください】入力用シート!D:D,Q16+6)) | Q16: =Q15+COUNTA(I15:P15)+1 -> 59
B17: =B16+1 -> 8 | C17: =RIGHT(INDEX(【本シートに入力してください】入力用シート!B:B,Q17),LEN(INDEX(【本シートに入力してください】入力用シート!B:B,Q17))-FIND("：",INDEX(【本シートに入力してください】入力用シート!B:B,Q17))) -> 地すべり等防止法に基づく地すべり防止区域又はぼた山崩壊防止区域内の行為許可 | D17: =IF(I17="","☐有"&CHAR(10)&"☐無",IF(I17="有","✓有"&CHAR(10)&"☐無","☐有"&CHAR(10)&"✓無")) -> ☐有 ☐無 | E17: =IF(J17="","☐手続済"&CHAR(10)&"☐手続中"&CHAR(10)&"（ 年 月）",IF(J17="手続済","✓手続済"&CHAR(10)&"☐手続中"&CHAR(10)&"（ 年 月）","☐手続済"&CHAR(10)&"✓手続中"&CHAR(10)&"（"&K17&"年"&L17&"月）")) -> ☐手続済 ☐手続中 （ 年 月） | F17: =IF(M17="","年 月 日",M17) -> 年 月 日 | G17: =IF(N17="","☐法令担当部署への確認"&CHAR(10)&"確認先："&CHAR(10)&"☐HP等での基準の確認（該当無の場合のみ）"&CHAR(10)&"該当無の理由：",IF(N17="法令担当部署への確認","✓法令担当部署への確認"&CHAR(10)&"確認先："&O17&CHAR(10)&"☐HP等での基準の確認（該当無の場合のみ）"&CHAR(10)&"該当無の理由：","☐法令担当部署への確認"&CHAR(10)&"確認先："&CHAR(10)&"✓HP等での基準の確認（該当無の場合のみ）"&CHAR(10)&"該当無の理由："&O17)) -> ☐法令担当部署への確認 確認先： ☐HP等での基準の確認（該当無の場合のみ） 該当無の理由： | I17: =IF(INDEX(【本シートに入力してください】入力用シート!D:D,Q17)=0,"",INDEX(【本シートに入力してください】入力用シート!D:D,Q17)) | J17: =IF(INDEX(【本シートに入力してください】入力用シート!D:D,Q17+1)=0,"",INDEX(【本シートに入力してください】入力用シート!D:D,Q17+1)) | K17: =IF(INDEX(【本シートに入力してください】入力用シート!D:D,Q17+2)=0,"",INDEX(【本シートに入力してください】入力用シート!D:D,Q17+2)) | L17: =IF(INDEX(【本シートに入力してください】入力用シート!D:D,Q17+3)=0,"",INDEX(【本シートに入力してください】入力用シート!D:D,Q17+3)) | M17: =IF(INDEX(【本シートに入力してください】入力用シート!D:D,Q17+4)=0,"",INDEX(【本シートに入力してください】入力用シート!D:D,Q17+4)) | N17: =IF(INDEX(【本シートに入力してください】入力用シート!D:D,Q17+5)=0,"",INDEX(【本シートに入力してください】入力用シート!D:D,Q17+5)) | O17: =IF(INDEX(【本シートに入力してください】入力用シート!D:D,Q17+6)=0,"",INDEX(【本シートに入力してください】入力用シート!D:D,Q17+6)) | Q17: =Q16+COUNTA(I16:P16)+1 -> 67
B18: =B17+1 -> 9 | C18: =RIGHT(INDEX(【本シートに入力してください】入力用シート!B:B,Q18),LEN(INDEX(【本シートに入力してください】入力用シート!B:B,Q18))-FIND("：",INDEX(【本シートに入力してください】入力用シート!B:B,Q18))) -> 景観法に基づく届出 | D18: =IF(I18="","☐有"&CHAR(10)&"☐無",IF(I18="有","✓有"&CHAR(10)&"☐無","☐有"&CHAR(10)&"✓無")) -> ☐有 ☐無 | E18: =IF(J18="","☐手続済"&CHAR(10)&"☐手続中"&CHAR(10)&"（ 年 月）",IF(J18="手続済","✓手続済"&CHAR(10)&"☐手続中"&CHAR(10)&"（ 年 月）","☐手続済"&CHAR(10)&"✓手続中"&CHAR(10)&"（"&K18&"年"&L18&"月）")) -> ☐手続済 ☐手続中 （ 年 月） | F18: =IF(M18="","年 月 日",M18) -> 年 月 日 | G18: =IF(N18="","☐法令担当部署への確認"&CHAR(10)&"確認先："&CHAR(10)&"☐HP等での基準の確認（該当無の場合のみ）"&CHAR(10)&"該当無の理由：",IF(N18="法令担当部署への確認","✓法令担当部署への確認"&CHAR(10)&"確認先："&O18&CHAR(10)&"☐HP等での基準の確認（該当無の場合のみ）"&CHAR(10)&"該当無の理由：","☐法令担当部署への確認"&CHAR(10)&"確認先："&CHAR(10)&"✓HP等での基準の確認（該当無の場合のみ）"&CHAR(10)&"該当無の理由："&O18)) -> ☐法令担当部署への確認 確認先： ☐HP等での基準の確認（該当無の場合のみ） 該当無の理由： | I18: =IF(INDEX(【本シートに入力してください】入力用シート!D:D,Q18)=0,"",INDEX(【本シートに入力してください】入力用シート!D:D,Q18)) | J18: =IF(INDEX(【本シートに入力してください】入力用シート!D:D,Q18+1)=0,"",INDEX(【本シートに入力してください】入力用シート!D:D,Q18+1)) | K18: =IF(INDEX(【本シートに入力してください】入力用シート!D:D,Q18+2)=0,"",INDEX(【本シートに入力してください】入力用シート!D:D,Q18+2)) | L18: =IF(INDEX(【本シートに入力してください】入力用シート!D:D,Q18+3)=0,"",INDEX(【本シートに入力してください】入力用シート!D:D,Q18+3)) | M18: =IF(INDEX(【本シートに入力してください】入力用シート!D:D,Q18+4)=0,"",INDEX(【本シートに入力してください】入力用シート!D:D,Q18+4)) | N18: =IF(INDEX(【本シートに入力してください】入力用シート!D:D,Q18+5)=0,"",INDEX(【本シートに入力してください】入力用シート!D:D,Q18+5)) | O18: =IF(INDEX(【本シートに入力してください】入力用シート!D:D,Q18+6)=0,"",INDEX(【本シートに入力してください】入力用シート!D:D,Q18+6)) | Q18: =Q17+COUNTA(I17:P17)+1 -> 75
B19: =B18+1 -> 10 | C19: =RIGHT(INDEX(【本シートに入力してください】入力用シート!B:B,Q19),LEN(INDEX(【本シートに入力してください】入力用シート!B:B,Q19))-FIND("：",INDEX(【本シートに入力してください】入力用シート!B:B,Q19))) -> 農業振興地域の整備に関する法律に基づく市町村の農業振興地域整備計画の変更 | D19: =IF(I19="","☐有"&CHAR(10)&"☐無",IF(I19="有","✓有"&CHAR(10)&"☐無","☐有"&CHAR(10)&"✓無")) -> ☐有 ☐無 | E19: =IF(J19="","☐手続済"&CHAR(10)&"☐手続中"&CHAR(10)&"（ 年 月）",IF(J19="手続済","✓手続済"&CHAR(10)&"☐手続中"&CHAR(10)&"（ 年 月）","☐手続済"&CHAR(10)&"✓手続中"&CHAR(10)&"（"&K19&"年"&L19&"月）")) -> ☐手続済 ☐手続中 （ 年 月） | F19: =IF(M19="","年 月 日",M19) -> 年 月 日 | G19: =IF(N19="","☐法令担当部署への確認"&CHAR(10)&"確認先："&CHAR(10)&"☐HP等での基準の確認（該当無の場合のみ）"&CHAR(10)&"該当無の理由：",IF(N19="法令担当部署への確認","✓法令担当部署への確認"&CHAR(10)&"確認先："&O19&CHAR(10)&"☐HP等での基準の確認（該当無の場合のみ）"&CHAR(10)&"該当無の理由：","☐法令担当部署への確認"&CHAR(10)&"確認先："&CHAR(10)&"✓HP等での基準の確認（該当無の場合のみ）"&CHAR(10)&"該当無の理由："&O19)) -> ☐法令担当部署への確認 確認先： ☐HP等での基準の確認（該当無の場合のみ） 該当無の理由： | I19: =IF(INDEX(【本シートに入力してください】入力用シート!D:D,Q19)=0,"",INDEX(【本シートに入力してください】入力用シート!D:D,Q19)) | J19: =IF(INDEX(【本シートに入力してください】入力用シート!D:D,Q19+1)=0,"",INDEX(【本シートに入力してください】入力用シート!D:D,Q19+1)) | K19: =IF(INDEX(【本シートに入力してください】入力用シート!D:D,Q19+2)=0,"",INDEX(【本シートに入力してください】入力用シート!D:D,Q19+2)) | L19: =IF(INDEX(【本シートに入力してください】入力用シート!D:D,Q19+3)=0,"",INDEX(【本シートに入力してください】入力用シート!D:D,Q19+3)) | M19: =IF(INDEX(【本シートに入力してください】入力用シート!D:D,Q19+4)=0,"",INDEX(【本シートに入力してください】入力用シート!D:D,Q19+4)) | N19: =IF(INDEX(【本シートに入力してください】入力用シート!D:D,Q19+5)=0,"",INDEX(【本シートに入力してください】入力用シート!D:D,Q19+5)) | O19: =IF(INDEX(【本シートに入力してください】入力用シート!D:D,Q19+6)=0,"",INDEX(【本シートに入力してください】入力用シート!D:D,Q19+6)) | Q19: =Q18+COUNTA(I18:P18)+1 -> 83
B20: =B19+1 -> 11 | C20: =RIGHT(INDEX(【本シートに入力してください】入力用シート!B:B,Q20),LEN(INDEX(【本シートに入力してください】入力用シート!B:B,Q20))-FIND("：",INDEX(【本シートに入力してください】入力用シート!B:B,Q20))) -> 農地法に基づく農地転用許可 | D20: =IF(I20="","☐有"&CHAR(10)&"☐無",IF(I20="有","✓有"&CHAR(10)&"☐無","☐有"&CHAR(10)&"✓無")) -> ☐有 ☐無 | E20: =IF(J20="","☐手続済"&CHAR(10)&"☐手続中"&CHAR(10)&"（ 年 月）",IF(J20="手続済","✓手続済"&CHAR(10)&"☐手続中"&CHAR(10)&"（ 年 月）","☐手続済"&CHAR(10)&"✓手続中"&CHAR(10)&"（"&K20&"年"&L20&"月）")) -> ☐手続済 ☐手続中 （ 年 月） | F20: =IF(M20="","年 月 日",M20) -> 年 月 日 | G20: =IF(N20="","☐法令担当部署への確認"&CHAR(10)&"確認先："&CHAR(10)&"☐HP等での基準の確認（該当無の場合のみ）"&CHAR(10)&"該当無の理由：",IF(N20="法令担当部署への確認","✓法令担当部署への確認"&CHAR(10)&"確認先："&O20&CHAR(10)&"☐HP等での基準の確認（該当無の場合のみ）"&CHAR(10)&"該当無の理由：","☐法令担当部署への確認"&CHAR(10)&"確認先："&CHAR(10)&"✓HP等での基準の確認（該当無の場合のみ）"&CHAR(10)&"該当無の理由："&O20)) -> ☐法令担当部署への確認 確認先： ☐HP等での基準の確認（該当無の場合のみ） 該当無の理由： | I20: =IF(INDEX(【本シートに入力してください】入力用シート!D:D,Q20)=0,"",INDEX(【本シートに入力してください】入力用シート!D:D,Q20)) | J20: =IF(INDEX(【本シートに入力してください】入力用シート!D:D,Q20+1)=0,"",INDEX(【本シートに入力してください】入力用シート!D:D,Q20+1)) | K20: =IF(INDEX(【本シートに入力してください】入力用シート!D:D,Q20+2)=0,"",INDEX(【本シートに入力してください】入力用シート!D:D,Q20+2)) | L20: =IF(INDEX(【本シートに入力してください】入力用シート!D:D,Q20+3)=0,"",INDEX(【本シートに入力してください】入力用シート!D:D,Q20+3)) | M20: =IF(INDEX(【本シートに入力してください】入力用シート!D:D,Q20+4)=0,"",INDEX(【本シートに入力してください】入力用シート!D:D,Q20+4)) | N20: =IF(INDEX(【本シートに入力してください】入力用シート!D:D,Q20+5)=0,"",INDEX(【本シートに入力してください】入力用シート!D:D,Q20+5)) | O20: =IF(INDEX(【本シートに入力してください】入力用シート!D:D,Q20+6)=0,"",INDEX(【本シートに入力してください】入力用シート!D:D,Q20+6)) | Q20: =Q19+COUNTA(I19:P19)+1 -> 91
B21: =B20+1 -> 12 | C21: =RIGHT(INDEX(【本シートに入力してください】入力用シート!B:B,Q21),LEN(INDEX(【本シートに入力してください】入力用シート!B:B,Q21))-FIND("：",INDEX(【本シートに入力してください】入力用シート!B:B,Q21))) -> 森林法に基づく林地開発許可等手続、伐採及び伐採後の造林の届出 | D21: =IF(I21="","☐有"&CHAR(10)&"☐無",IF(I21="有","✓有"&CHAR(10)&"☐無","☐有"&CHAR(10)&"✓無")) -> ☐有 ☐無 | E21: =IF(J21="","☐手続済"&CHAR(10)&"☐手続中"&CHAR(10)&"（ 年 月）",IF(J21="手続済","✓手続済"&CHAR(10)&"☐手続中"&CHAR(10)&"（ 年 月）","☐手続済"&CHAR(10)&"✓手続中"&CHAR(10)&"（"&K21&"年"&L21&"月）")) -> ☐手続済 ☐手続中 （ 年 月） | F21: =IF(M21="","年 月 日",M21) -> 年 月 日 | G21: =IF(N21="","☐法令担当部署への確認"&CHAR(10)&"確認先："&CHAR(10)&"☐HP等での基準の確認（該当無の場合のみ）"&CHAR(10)&"該当無の理由：",IF(N21="法令担当部署への確認","✓法令担当部署への確認"&CHAR(10)&"確認先："&O21&CHAR(10)&"☐HP等での基準の確認（該当無の場合のみ）"&CHAR(10)&"該当無の理由：","☐法令担当部署への確認"&CHAR(10)&"確認先："&CHAR(10)&"✓HP等での基準の確認（該当無の場合のみ）"&CHAR(10)&"該当無の理由："&O21)) -> ☐法令担当部署への確認 確認先： ☐HP等での基準の確認（該当無の場合のみ） 該当無の理由： | I21: =IF(INDEX(【本シートに入力してください】入力用シート!D:D,Q21)=0,"",INDEX(【本シートに入力してください】入力用シート!D:D,Q21)) | J21: =IF(INDEX(【本シートに入力してください】入力用シート!D:D,Q21+1)=0,"",INDEX(【本シートに入力してください】入力用シート!D:D,Q21+1)) | K21: =IF(INDEX(【本シートに入力してください】入力用シート!D:D,Q21+2)=0,"",INDEX(【本シートに入力してください】入力用シート!D:D,Q21+2)) | L21: =IF(INDEX(【本シートに入力してください】入力用シート!D:D,Q21+3)=0,"",INDEX(【本シートに入力してください】入力用シート!D:D,Q21+3)) | M21: =IF(INDEX(【本シートに入力してください】入力用シート!D:D,Q21+4)=0,"",INDEX(【本シートに入力してください】入力用シート!D:D,Q21+4)) | N21: =IF(INDEX(【本シートに入力してください】入力用シート!D:D,Q21+5)=0,"",INDEX(【本シートに入力してください】入力用シート!D:D,Q21+5)) | O21: =IF(INDEX(【本シートに入力してください】入力用シート!D:D,Q21+6)=0,"",INDEX(【本シートに入力してください】入力用シート!D:D,Q21+6)) | Q21: =Q20+COUNTA(I20:P20)+1 -> 99
B22: =B21+1 -> 13 | C22: =RIGHT(INDEX(【本シートに入力してください】入力用シート!B:B,Q22),LEN(INDEX(【本シートに入力してください】入力用シート!B:B,Q22))-FIND("：",INDEX(【本シートに入力してください】入力用シート!B:B,Q22))) -> 文化財保護法に基づく埋蔵文化財包蔵地土木工事等届出、史跡・名勝・天然記念物指定地の現状変更許可 | D22: =IF(I22="","☐有"&CHAR(10)&"☐無",IF(I22="有","✓有"&CHAR(10)&"☐無","☐有"&CHAR(10)&"✓無")) -> ☐有 ☐無 | E22: =IF(J22="","☐手続済"&CHAR(10)&"☐手続中"&CHAR(10)&"（ 年 月）",IF(J22="手続済","✓手続済"&CHAR(10)&"☐手続中"&CHAR(10)&"（ 年 月）","☐手続済"&CHAR(10)&"✓手続中"&CHAR(10)&"（"&K22&"年"&L22&"月）")) -> ☐手続済 ☐手続中 （ 年 月） | F22: =IF(M22="","年 月 日",M22) -> 年 月 日 | G22: =IF(N22="","☐法令担当部署への確認"&CHAR(10)&"確認先："&CHAR(10)&"☐HP等での基準の確認（該当無の場合のみ）"&CHAR(10)&"該当無の理由：",IF(N22="法令担当部署への確認","✓法令担当部署への確認"&CHAR(10)&"確認先："&O22&CHAR(10)&"☐HP等での基準の確認（該当無の場合のみ）"&CHAR(10)&"該当無の理由：","☐法令担当部署への確認"&CHAR(10)&"確認先："&CHAR(10)&"✓HP等での基準の確認（該当無の場合のみ）"&CHAR(10)&"該当無の理由："&O22)) -> ☐法令担当部署への確認 確認先： ☐HP等での基準の確認（該当無の場合のみ） 該当無の理由： | I22: =IF(INDEX(【本シートに入力してください】入力用シート!D:D,Q22)=0,"",INDEX(【本シートに入力してください】入力用シート!D:D,Q22)) | J22: =IF(INDEX(【本シートに入力してください】入力用シート!D:D,Q22+1)=0,"",INDEX(【本シートに入力してください】入力用シート!D:D,Q22+1)) | K22: =IF(INDEX(【本シートに入力してください】入力用シート!D:D,Q22+2)=0,"",INDEX(【本シートに入力してください】入力用シート!D:D,Q22+2)) | L22: =IF(INDEX(【本シートに入力してください】入力用シート!D:D,Q22+3)=0,"",INDEX(【本シートに入力してください】入力用シート!D:D,Q22+3)) | M22: =IF(INDEX(【本シートに入力してください】入力用シート!D:D,Q22+4)=0,"",INDEX(【本シートに入力してください】入力用シート!D:D,Q22+4)) | N22: =IF(INDEX(【本シートに入力してください】入力用シート!D:D,Q22+5)=0,"",INDEX(【本シートに入力してください】入力用シート!D:D,Q22+5)) | O22: =IF(INDEX(【本シートに入力してください】入力用シート!D:D,Q22+6)=0,"",INDEX(【本シートに入力してください】入力用シート!D:D,Q22+6)) | Q22: =Q21+COUNTA(I21:P21)+1 -> 107
... B28: =B27+1 -> 19 | C28: =RIGHT(INDEX(【本シートに入力してください】入力用シート!B:B,Q28),LEN(INDEX(【本シートに入力してください】入力用シート!B:B,Q28))-FIND("：",INDEX(【本シートに入力してください】入力用シート!B:B,Q28))) -> 鳥獣の保護及び管理並びに狩猟の適正化に関する法律に基づく鳥獣保護区の特別保護地区の行為許可 | D28: =IF(I28="","☐有"&CHAR(10)&"☐無",IF(I28="有","✓有"&CHAR(10)&"☐無","☐有"&CHAR(10)&"✓無")) -> ☐有 ☐無 | E28: =IF(J28="","☐手続済"&CHAR(10)&"☐手続中"&CHAR(10)&"（ 年 月）",IF(J28="手続済","✓手続済"&CHAR(10)&"☐手続中"&CHAR(10)&"（ 年 月）","☐手続済"&CHAR(10)&"✓手続中"&CHAR(10)&"（"&K28&"年"&L28&"月）")) -> ☐手続済 ☐手続中 （ 年 月） | F28: =IF(M28="","年 月 日",M28) -> 年 月 日 | G28: =IF(N28="","☐法令担当部署への確認"&CHAR(10)&"確認先："&CHAR(10)&"☐HP等での基準の確認（該当無の場合のみ）"&CHAR(10)&"該当無の理由：",IF(N28="法令担当部署への確認","✓法令担当部署への確認"&CHAR(10)&"確認先："&O28&CHAR(10)&"☐HP等での基準の確認（該当無の場合のみ）"&CHAR(10)&"該当無の理由：","☐法令担当部署への確認"&CHAR(10)&"確認先："&CHAR(10)&"✓HP等での基準の確認（該当無の場合のみ）"&CHAR(10)&"該当無の理由："&O28)) -> ☐法令担当部署への確認 確認先： ☐HP等での基準の確認（該当無の場合のみ） 該当無の理由： | I28: =IF(INDEX(【本シートに入力してください】入力用シート!D:D,Q28)=0,"",INDEX(【本シートに入力してください】入力用シート!D:D,Q28)) | J28: =IF(INDEX(【本シートに入力してください】入力用シート!D:D,Q28+1)=0,"",INDEX(【本シートに入力してください】入力用シート!D:D,Q28+1)) | K28: =IF(INDEX(【本シートに入力してください】入力用シート!D:D,Q28+2)=0,"",INDEX(【本シートに入力してください】入力用シート!D:D,Q28+2)) | L28: =IF(INDEX(【本シートに入力してください】入力用シート!D:D,Q28+3)=0,"",INDEX(【本シートに入力してください】入力用シート!D:D,Q28+3)) | M28: =IF(INDEX(【本シートに入力してください】入力用シート!D:D,Q28+4)=0,"",INDEX(【本シートに入力してください】入力用シート!D:D,Q28+4)) | N28: =IF(INDEX(【本シートに入力してください】入力用シート!D:D,Q28+5)=0,"",INDEX(【本シートに入力してください】入力用シート!D:D,Q28+5)) | O28: =IF(INDEX(【本シートに入力してください】入力用シート!D:D,Q28+6)=0,"",INDEX(【本シートに入力してください】入力用シート!D:D,Q28+6)) | Q28: =Q27+COUNTA(I27:P27)+1 -> 155
B29: =B28+1 -> 20 | C29: =RIGHT(INDEX(【本シートに入力してください】入力用シート!B:B,Q29),LEN(INDEX(【本シートに入力してください】入力用シート!B:B,Q29))-FIND("：",INDEX(【本シートに入力してください】入力用シート!B:B,Q29)))&CHAR(10)&INDEX(【本シートに入力してください】入力用シート!C:C,Q29+7)&"（"&IF(P29=""," ",P29)&"）" -> 環境影響評価法又は環境影響評価条例に係る環境影響評価 事業名称（ ） | D29: =IF(I29="","☐有"&CHAR(10)&"☐無",IF(I29="有","✓有"&CHAR(10)&"☐無","☐有"&CHAR(10)&"✓無")) -> ☐有 ☐無 | E29: =IF(J29="","☐手続済"&CHAR(10)&"☐手続中"&CHAR(10)&"（ 年 月）",IF(J29="手続済","✓手続済"&CHAR(10)&"☐手続中"&CHAR(10)&"（ 年 月）","☐手続済"&CHAR(10)&"✓手続中"&CHAR(10)&"（"&K29&"年"&L29&"月）")) -> ☐手続済 ☐手続中 （ 年 月） | F29: =IF(M29="","年 月 日",M29) -> 年 月 日 | G29: =IF(N29="","☐法令担当部署への確認"&CHAR(10)&"確認先："&CHAR(10)&"☐HP等での基準の確認（該当無の場合のみ）"&CHAR(10)&"該当無の理由：",IF(N29="法令担当部署への確認","✓法令担当部署への確認"&CHAR(10)&"確認先："&O29&CHAR(10)&"☐HP等での基準の確認（該当無の場合のみ）"&CHAR(10)&"該当無の理由：","☐法令担当部署への確認"&CHAR(10)&"確認先："&CHAR(10)&"✓HP等での基準の確認（該当無の場合のみ）"&CHAR(10)&"該当無の理由："&O29)) -> ☐法令担当部署への確認 確認先： ☐HP等での基準の確認（該当無の場合のみ） 該当無の理由： | I29: =IF(INDEX(【本シートに入力してください】入力用シート!D:D,Q29)=0,"",INDEX(【本シートに入力してください】入力用シート!D:D,Q29)) | J29: =IF(INDEX(【本シートに入力してください】入力用シート!D:D,Q29+1)=0,"",INDEX(【本シートに入力してください】入力用シート!D:D,Q29+1)) | K29: =IF(INDEX(【本シートに入力してください】入力用シート!D:D,Q29+2)=0,"",INDEX(【本シートに入力してください】入力用シート!D:D,Q29+2)) | L29: =IF(INDEX(【本シートに入力してください】入力用シート!D:D,Q29+3)=0,"",INDEX(【本シートに入力してください】入力用シート!D:D,Q29+3)) | M29: =IF(INDEX(【本シートに入力してください】入力用シート!D:D,Q29+4)=0,"",INDEX(【本シートに入力してください】入力用シート!D:D,Q29+4)) | N29: =IF(INDEX(【本シートに入力してください】入力用シート!D:D,Q29+5)=0,"",INDEX(【本シートに入力してください】入力用シート!D:D,Q29+5)) | O29: =IF(INDEX(【本シートに入力してください】入力用シート!D:D,Q29+6)=0,"",INDEX(【本シートに入力してください】入力用シート!D:D,Q29+6)) | P29: =IF(INDEX(【本シートに入力してください】入力用シート!D:D,Q29+7)=0,"",INDEX(【本シートに入力してください】入力用シート!D:D,Q29+7)) | Q29: =Q28+COUNTA(I28:P28)+1 -> 163
B30: =B29+1 -> 21 | C30: =RIGHT(INDEX(【本シートに入力してください】入力用シート!B:B,Q30),LEN(INDEX(【本シートに入力してください】入力用シート!B:B,Q30))-FIND("：",INDEX(【本シートに入力してください】入力用シート!B:B,Q30)))&CHAR(10)&INDEX(【本シートに入力してください】入力用シート!C:C,Q30+7)&"（"&IF(P30=""," ",P30)&"）" -> 再生可能エネルギー電気の利用の促進に関する特別措置法 設備ID（ ） | D30: =IF(I30="","☐有"&CHAR(10)&"☐無",IF(I30="有","✓有"&CHAR(10)&"☐無","☐有"&CHAR(10)&"✓無")) -> ☐有 ☐無 | E30: =IF(J30="","☐手続済"&CHAR(10)&"☐手続中"&CHAR(10)&"（ 年 月）",IF(J30="手続済","✓手続済"&CHAR(10)&"☐手続中"&CHAR(10)&"（ 年 月）","☐手続済"&CHAR(10)&"✓手続中"&CHAR(10)&"（"&K30&"年"&L30&"月）")) -> ☐手続済 ☐手続中 （ 年 月） | F30: =IF(M30="","年 月 日",M30) -> 年 月 日 | G30: =IF(N30="","☐法令担当部署への確認"&CHAR(10)&"確認先："&CHAR(10)&"☐HP等での基準の確認（該当無の場合のみ）"&CHAR(10)&"該当無の理由：",IF(N30="法令担当部署への確認","✓法令担当部署への確認"&CHAR(10)&"確認先："&O30&CHAR(10)&"☐HP等での基準の確認（該当無の場合のみ）"&CHAR(10)&"該当無の理由：","☐法令担当部署への確認"&CHAR(10)&"確認先："&CHAR(10)&"✓HP等での基準の確認（該当無の場合のみ）"&CHAR(10)&"該当無の理由："&O30)) -> ☐法令担当部署への確認 確認先： ☐HP等での基準の確認（該当無の場合のみ） 該当無の理由： | I30: =IF(INDEX(【本シートに入力してください】入力用シート!D:D,Q30)=0,"",INDEX(【本シートに入力してください】入力用シート!D:D,Q30)) | J30: =IF(INDEX(【本シートに入力してください】入力用シート!D:D,Q30+1)=0,"",INDEX(【本シートに入力してください】入力用シート!D:D,Q30+1)) | K30: =IF(INDEX(【本シートに入力してください】入力用シート!D:D,Q30+2)=0,"",INDEX(【本シートに入力してください】入力用シート!D:D,Q30+2)) | L30: =IF(INDEX(【本シートに入力してください】入力用シート!D:D,Q30+3)=0,"",INDEX(【本シートに入力してください】入力用シート!D:D,Q30+3)) | M30: =IF(INDEX(【本シートに入力してください】入力用シート!D:D,Q30+4)=0,"",INDEX(【本シートに入力してください】入力用シート!D:D,Q30+4)) | N30: =IF(INDEX(【本シートに入力してください】入力用シート!D:D,Q30+5)=0,"",INDEX(【本シートに入力してください】入力用シート!D:D,Q30+5)) | O30: =IF(INDEX(【本シートに入力してください】入力用シート!D:D,Q30+6)=0,"",INDEX(【本シートに入力してください】入力用シート!D:D,Q30+6)) | P30: =IF(INDEX(【本シートに入力してください】入力用シート!D:D,Q30+7)=0,"",INDEX(【本シートに入力してください】入力用シート!D:D,Q30+7)) | Q30: =Q29+COUNTA(I29:P29)+1 -> 172
B31: =B30+1 -> 22 | C31: =RIGHT(INDEX(【本シートに入力してください】入力用シート!B:B,Q31),LEN(INDEX(【本シートに入力してください】入力用シート!B:B,Q31))-FIND("：",INDEX(【本シートに入力してください】入力用シート!B:B,Q31))) -> 特定都市河川浸水被害対策法に基づく雨水浸透阻害行為の許可 | D31: =IF(I31="","☐有"&CHAR(10)&"☐無",IF(I31="有","✓有"&CHAR(10)&"☐無","☐有"&CHAR(10)&"✓無")) -> ☐有 ☐無 | E31: =IF(J31="","☐手続済"&CHAR(10)&"☐手続中"&CHAR(10)&"（ 年 月）",IF(J31="手続済","✓手続済"&CHAR(10)&"☐手続中"&CHAR(10)&"（ 年 月）","☐手続済"&CHAR(10)&"✓手続中"&CHAR(10)&"（"&K31&"年"&L31&"月）")) -> ☐手続済 ☐手続中 （ 年 月） | F31: =IF(M31="","年 月 日",M31) -> 年 月 日 | G31: =IF(N31="","☐法令担当部署への確認"&CHAR(10)&"確認先："&CHAR(10)&"☐HP等での基準の確認（該当無の場合のみ）"&CHAR(10)&"該当無の理由：",IF(N31="法令担当部署への確認","✓法令担当部署への確認"&CHAR(10)&"確認先："&O31&CHAR(10)&"☐HP等での基準の確認（該当無の場合のみ）"&CHAR(10)&"該当無の理由：","☐法令担当部署への確認"&CHAR(10)&"確認先："&CHAR(10)&"✓HP等での基準の確認（該当無の場合のみ）"&CHAR(10)&"該当無の理由："&O31)) -> ☐法令担当部署への確認 確認先： ☐HP等での基準の確認（該当無の場合のみ） 該当無の理由： | I31: =IF(INDEX(【本シートに入力してください】入力用シート!D:D,Q31)=0,"",INDEX(【本シートに入力してください】入力用シート!D:D,Q31)) | J31: =IF(INDEX(【本シートに入力してください】入力用シート!D:D,Q31+1)=0,"",INDEX(【本シートに入力してください】入力用シート!D:D,Q31+1)) | K31: =IF(INDEX(【本シートに入力してください】入力用シート!D:D,Q31+2)=0,"",INDEX(【本シートに入力してください】入力用シート!D:D,Q31+2)) | L31: =IF(INDEX(【本シートに入力してください】入力用シート!D:D,Q31+3)=0,"",INDEX(【本シートに入力してください】入力用シート!D:D,Q31+3)) | M31: =IF(INDEX(【本シートに入力してください】入力用シート!D:D,Q31+4)=0,"",INDEX(【本シートに入力してください】入力用シート!D:D,Q31+4)) | N31: =IF(INDEX(【本シートに入力してください】入力用シート!D:D,Q31+5)=0,"",INDEX(【本シートに入力してください】入力用シート!D:D,Q31+5)) | O31: =IF(INDEX(【本シートに入力してください】入力用シート!D:D,Q31+6)=0,"",INDEX(【本シートに入力してください】入力用シート!D:D,Q31+6)) | Q31: =Q30+COUNTA(I30:P30)+1 -> 181
B32: =B31+1 -> 23 | C32: =RIGHT(INDEX(【本シートに入力してください】入力用シート!B:B,Q32),LEN(INDEX(【本シートに入力してください】入力用シート!B:B,Q32))-FIND("：",INDEX(【本シートに入力してください】入力用シート!B:B,Q32))) -> 宅地造成及び特定盛土等規制法に基づく宅地造成等工事規制区域内・特定盛土等規制区域内の工事許可 | D32: =IF(I32="","☐有"&CHAR(10)&"☐無",IF(I32="有","✓有"&CHAR(10)&"☐無","☐有"&CHAR(10)&"✓無")) -> ☐有 ☐無 | E32: =IF(J32="","☐手続済"&CHAR(10)&"☐手続中"&CHAR(10)&"（ 年 月）",IF(J32="手続済","✓手続済"&CHAR(10)&"☐手続中"&CHAR(10)&"（ 年 月）","☐手続済"&CHAR(10)&"✓手続中"&CHAR(10)&"（"&K32&"年"&L32&"月）")) -> ☐手続済 ☐手続中 （ 年 月） | F32: =IF(M32="","年 月 日",M32) -> 年 月 日 | G32: =IF(N32="","☐法令担当部署への確認"&CHAR(10)&"確認先："&CHAR(10)&"☐HP等での基準の確認（該当無の場合のみ）"&CHAR(10)&"該当無の理由：",IF(N32="法令担当部署への確認","✓法令担当部署への確認"&CHAR(10)&"確認先："&O32&CHAR(10)&"☐HP等での基準の確認（該当無の場合のみ）"&CHAR(10)&"該当無の理由：","☐法令担当部署への確認"&CHAR(10)&"確認先："&CHAR(10)&"✓HP等での基準の確認（該当無の場合のみ）"&CHAR(10)&"該当無の理由："&O32)) -> ☐法令担当部署への確認 確認先： ☐HP等での基準の確認（該当無の場合のみ） 該当無の理由： | I32: =IF(INDEX(【本シートに入力してください】入力用シート!D:D,Q32)=0,"",INDEX(【本シートに入力してください】入力用シート!D:D,Q32)) | J32: =IF(INDEX(【本シートに入力してください】入力用シート!D:D,Q32+1)=0,"",INDEX(【本シートに入力してください】入力用シート!D:D,Q32+1)) | K32: =IF(INDEX(【本シートに入力してください】入力用シート!D:D,Q32+2)=0,"",INDEX(【本シートに入力してください】入力用シート!D:D,Q32+2)) | L32: =IF(INDEX(【本シートに入力してください】入力用シート!D:D,Q32+3)=0,"",INDEX(【本シートに入力してください】入力用シート!D:D,Q32+3)) | M32: =IF(INDEX(【本シートに入力してください】入力用シート!D:D,Q32+4)=0,"",INDEX(【本シートに入力してください】入力用シート!D:D,Q32+4)) | N32: =IF(INDEX(【本シートに入力してください】入力用シート!D:D,Q32+5)=0,"",INDEX(【本シートに入力してください】入力用シート!D:D,Q32+5)) | O32: =IF(INDEX(【本シートに入力してください】入力用シート!D:D,Q32+6)=0,"",INDEX(【本シートに入力してください】入力用シート!D:D,Q32+6)) | Q32: =Q31+COUNTA(I31:P31)+1 -> 189
B33: =B32+1 -> 24 | C33: =RIGHT(INDEX(【本シートに入力してください】入力用シート!B:B,Q33),LEN(INDEX(【本シートに入力してください】入力用シート!B:B,Q33))-FIND("：",INDEX(【本シートに入力してください】入力用シート!B:B,Q33)))&CHAR(10)&INDEX(【本シートに入力してください】入力用シート!C:C,Q33+7)&"（"&IF(P33=""," ",P33)&"）" -> 県内市町村における再エネ調和条例に基づく届出・協議等 条例名（ ） | D33: =IF(I33="","☐有"&CHAR(10)&"☐無",IF(I33="有","✓有"&CHAR(10)&"☐無","☐有"&CHAR(10)&"✓無")) -> ☐有 ☐無 | E33: =IF(J33="","☐手続済"&CHAR(10)&"☐手続中"&CHAR(10)&"（ 年 月）",IF(J33="手続済","✓手続済"&CHAR(10)&"☐手続中"&CHAR(10)&"（ 年 月）","☐手続済"&CHAR(10)&"✓手続中"&CHAR(10)&"（"&K33&"年"&L33&"月）")) -> ☐手続済 ☐手続中 （ 年 月） | F33: =IF(M33="","年 月 日",M33) -> 年 月 日 | G33: =IF(N33="","☐法令担当部署への確認"&CHAR(10)&"確認先："&CHAR(10)&"☐HP等での基準の確認（該当無の場合のみ）"&CHAR(10)&"該当無の理由：",IF(N33="法令担当部署への確認","✓法令担当部署への確認"&CHAR(10)&"確認先："&O33&CHAR(10)&"☐HP等での基準の確認（該当無の場合のみ）"&CHAR(10)&"該当無の理由：","☐法令担当部署への確認"&CHAR(10)&"確認先："&CHAR(10)&"✓HP等での基準の確認（該当無の場合のみ）"&CHAR(10)&"該当無の理由："&O33)) -> ☐法令担当部署への確認 確認先： ☐HP等での基準の確認（該当無の場合のみ） 該当無の理由： | I33: =IF(INDEX(【本シートに入力してください】入力用シート!D:D,Q33)=0,"",INDEX(【本シートに入力してください】入力用シート!D:D,Q33)) | J33: =IF(INDEX(【本シートに入力してください】入力用シート!D:D,Q33+1)=0,"",INDEX(【本シートに入力してください】入力用シート!D:D,Q33+1)) | K33: =IF(INDEX(【本シートに入力してください】入力用シート!D:D,Q33+2)=0,"",INDEX(【本シートに入力してください】入力用シート!D:D,Q33+2)) | L33: =IF(INDEX(【本シートに入力してください】入力用シート!D:D,Q33+3)=0,"",INDEX(【本シートに入力してください】入力用シート!D:D,Q33+3)) | M33: =IF(INDEX(【本シートに入力してください】入力用シート!D:D,Q33+4)=0,"",INDEX(【本シートに入力してください】入力用シート!D:D,Q33+4)) | N33: =IF(INDEX(【本シートに入力してください】入力用シート!D:D,Q33+5)=0,"",INDEX(【本シートに入力してください】入力用シート!D:D,Q33+5)) | O33: =IF(INDEX(【本シートに入力してください】入力用シート!D:D,Q33+6)=0,"",INDEX(【本シートに入力してください】入力用シート!D:D,Q33+6)) | P33: =IF(INDEX(【本シートに入力してください】入力用シート!D:D,Q33+7)=0,"",INDEX(【本シートに入力してください】入力用シート!D:D,Q33+7)) | Q33: =Q32+COUNTA(I32:P32)+1 -> 197
B34: =B33+1 -> 25 | C34: =RIGHT(INDEX(【本シートに入力してください】入力用シート!B:B,Q34),LEN(INDEX(【本シートに入力してください】入力用シート!B:B,Q34))-FIND("：",INDEX(【本シートに入力してください】入力用シート!B:B,Q34)))&CHAR(10)&INDEX(【本シートに入力してください】入力用シート!C:C,Q34+7)&"（"&IF(P34=""," ",P34)&"）" -> その他の関係法令 法令名（ ） | D34: =IF(I34="","☐有"&CHAR(10)&"☐無",IF(I34="有","✓有"&CHAR(10)&"☐無","☐有"&CHAR(10)&"✓無")) -> ☐有 ☐無 | E34: =IF(J34="","☐手続済"&CHAR(10)&"☐手続中"&CHAR(10)&"（ 年 月）",IF(J34="手続済","✓手続済"&CHAR(10)&"☐手続中"&CHAR(10)&"（ 年 月）","☐手続済"&CHAR(10)&"✓手続中"&CHAR(10)&"（"&K34&"年"&L34&"月）")) -> ☐手続済 ☐手続中 （ 年 月） | F34: =IF(M34="","年 月 日",M34) -> 年 月 日 | G34: =IF(N34="","☐法令担当部署への確認"&CHAR(10)&"確認先："&CHAR(10)&"☐HP等での基準の確認（該当無の場合のみ）"&CHAR(10)&"該当無の理由：",IF(N34="法令担当部署への確認","✓法令担当部署への確認"&CHAR(10)&"確認先："&O34&CHAR(10)&"☐HP等での基準の確認（該当無の場合のみ）"&CHAR(10)&"該当無の理由：","☐法令担当部署への確認"&CHAR(10)&"確認先："&CHAR(10)&"✓HP等での基準の確認（該当無の場合のみ）"&CHAR(10)&"該当無の理由："&O34)) -> ☐法令担当部署への確認 確認先： ☐HP等での基準の確認（該当無の場合のみ） 該当無の理由： | I34: =IF(INDEX(【本シートに入力してください】入力用シート!D:D,Q34)=0,"",INDEX(【本シートに入力してください】入力用シート!D:D,Q34)) | J34: =IF(INDEX(【本シートに入力してください】入力用シート!D:D,Q34+1)=0,"",INDEX(【本シートに入力してください】入力用シート!D:D,Q34+1)) | K34: =IF(INDEX(【本シートに入力してください】入力用シート!D:D,Q34+2)=0,"",INDEX(【本シートに入力してください】入力用シート!D:D,Q34+2)) | L34: =IF(INDEX(【本シートに入力してください】入力用シート!D:D,Q34+3)=0,"",INDEX(【本シートに入力してください】入力用シート!D:D,Q34+3)) | M34: =IF(INDEX(【本シートに入力してください】入力用シート!D:D,Q34+4)=0,"",INDEX(【本シートに入力してください】入力用シート!D:D,Q34+4)) | N34: =IF(INDEX(【本シートに入力してください】入力用シート!D:D,Q34+5)=0,"",INDEX(【本シートに入力してください】入力用シート!D:D,Q34+5)) | O34: =IF(INDEX(【本シートに入力してください】入力用シート!D:D,Q34+6)=0,"",INDEX(【本シートに入力してください】入力用シート!D:D,Q34+6)) | P34: =IF(INDEX(【本シートに入力してください】入力用シート!D:D,Q34+7)=0,"",INDEX(【本シートに入力してください】入力用シート!D:D,Q34+7)) | Q34: =Q33+COUNTA(I33:P33)+1 -> 206
B35: 上記以外の相談先（部署及び概要を記入）

Sheet 入力規則
B2: 有 | C2: 手続済 | D2: 令和１ | E2: １ | F2: 法令担当部署への確認
B3: 無 | C3: 手続中 | D3: 令和２ | E3: ２ | F3: HP等での基準の確認（該当無の場合のみ）
D4: 令和３ | E4: ３
D5: 令和４ | E5: ４
D6: 令和５ | E6: ５
D7: 令和６ | E7: ６
D8: 令和７ | E8: ７
D9: 令和８ | E9: ８
D10: 令和９ | E10: ９
D11: 令和１０ | E11: １０
D12: 令和１１ | E12: １１
D13: 令和１２ | E13: １２
D14: 令和１３
D15: 令和１４
D16: 令和１５
D17: 令和１６
D18: 令和１７
D19: 令和１８
D20: 令和１９
D21: 令和２０
D22: 平成１
D23: 平成２
D24: 平成３
D25: 平成４
... D52: 平成３１
